Package: biovizBase Version: 1.54.0 Command: rm -rf biovizBase.buildbin-libdir && mkdir biovizBase.buildbin-libdir && /Users/biocbuild/BBS/utils/build-universal.sh biovizBase_1.54.0.tar.gz /Library/Frameworks/R.framework/Resources/bin/R biovizBase.buildbin-libdir StartedAt: 2025-04-02 13:30:36 -0400 (Wed, 02 Apr 2025) EndedAt: 2025-04-02 13:31:37 -0400 (Wed, 02 Apr 2025) EllapsedTime: 61.1 seconds RetCode: 0 Status: OK PackageFile: biovizBase_1.54.0.tgz PackageFileSize: 2.738 MiB