Package: biosigner Version: 1.34.0 Command: /home/biocbuild/R/R/bin/R CMD INSTALL biosigner StartedAt: 2025-03-31 21:03:16 -0000 (Mon, 31 Mar 2025) EndedAt: 2025-03-31 21:03:50 -0000 (Mon, 31 Mar 2025) EllapsedTime: 33.9 seconds RetCode: 0 Status: OK