Package: biosigner Version: 1.34.0 Command: /home/biocbuild/R/R/bin/R CMD build --keep-empty-dirs --no-resave-data biosigner StartedAt: 2025-03-31 21:50:34 -0000 (Mon, 31 Mar 2025) EndedAt: 2025-03-31 21:54:18 -0000 (Mon, 31 Mar 2025) EllapsedTime: 224.1 seconds RetCode: 0 Status: OK PackageFile: biosigner_1.34.0.tar.gz PackageFileSize: 3.624 MiB