Package: biosigner Version: 1.34.0 Command: /Library/Frameworks/R.framework/Resources/bin/R CMD build --keep-empty-dirs --no-resave-data biosigner StartedAt: 2025-03-31 19:38:03 -0400 (Mon, 31 Mar 2025) EndedAt: 2025-03-31 19:41:22 -0400 (Mon, 31 Mar 2025) EllapsedTime: 199.7 seconds RetCode: 0 Status: OK PackageFile: biosigner_1.34.0.tar.gz PackageFileSize: 4.56 MiB