Package: biomvRCNS Version: 1.46.0 Command: /home/biocbuild/bbs-3.20-bioc/R/bin/R CMD check --install=check:biomvRCNS.install-out.txt --library=/home/biocbuild/bbs-3.20-bioc/R/site-library --timings biomvRCNS_1.46.0.tar.gz StartedAt: 2025-03-31 20:15:51 -0400 (Mon, 31 Mar 2025) EndedAt: 2025-03-31 20:22:05 -0400 (Mon, 31 Mar 2025) EllapsedTime: 373.5 seconds RetCode: 0 Status: OK CheckDir: biomvRCNS.Rcheck Warnings: 0