Package: biomformat Version: 1.34.0 Command: F:\biocbuild\bbs-3.20-bioc\R\bin\R.exe CMD check --no-multiarch --install=check:biomformat.install-out.txt --library=F:\biocbuild\bbs-3.20-bioc\R\library --no-vignettes --timings biomformat_1.34.0.tar.gz StartedAt: 2025-03-31 23:25:55 -0400 (Mon, 31 Mar 2025) EndedAt: 2025-03-31 23:27:31 -0400 (Mon, 31 Mar 2025) EllapsedTime: 95.7 seconds RetCode: 0 Status: OK CheckDir: biomformat.Rcheck Warnings: 0