Package: biomformat Version: 1.34.0 Command: /Library/Frameworks/R.framework/Resources/bin/R CMD check --install=check:biomformat.install-out.txt --library=/Library/Frameworks/R.framework/Resources/library --no-vignettes --timings biomformat_1.34.0.tar.gz StartedAt: 2025-04-01 12:15:31 -0400 (Tue, 01 Apr 2025) EndedAt: 2025-04-01 12:16:27 -0400 (Tue, 01 Apr 2025) EllapsedTime: 55.6 seconds RetCode: 0 Status: OK CheckDir: biomformat.Rcheck Warnings: 0