Package: biomaRt Version: 2.62.1 Command: /home/biocbuild/R/R/bin/R CMD build --keep-empty-dirs --no-resave-data biomaRt StartedAt: 2025-03-31 21:49:07 -0000 (Mon, 31 Mar 2025) EndedAt: 2025-03-31 21:52:33 -0000 (Mon, 31 Mar 2025) EllapsedTime: 206.1 seconds RetCode: 0 Status: OK PackageFile: biomaRt_2.62.1.tar.gz PackageFileSize: 894.2 KiB