Package: biomaRt Version: 2.62.1 Command: /home/biocbuild/bbs-3.20-bioc/R/bin/R CMD check --install=check:biomaRt.install-out.txt --library=/home/biocbuild/bbs-3.20-bioc/R/site-library --timings biomaRt_2.62.1.tar.gz StartedAt: 2025-03-31 20:15:27 -0400 (Mon, 31 Mar 2025) EndedAt: 2025-03-31 20:20:13 -0400 (Mon, 31 Mar 2025) EllapsedTime: 285.4 seconds RetCode: 0 Status: OK CheckDir: biomaRt.Rcheck Warnings: 0