Package: biomaRt Version: 2.62.1 Command: /Library/Frameworks/R.framework/Resources/bin/R CMD check --install=check:biomaRt.install-out.txt --library=/Library/Frameworks/R.framework/Resources/library --no-vignettes --timings biomaRt_2.62.1.tar.gz StartedAt: 2025-03-31 23:57:44 -0400 (Mon, 31 Mar 2025) EndedAt: 2025-04-01 00:03:45 -0400 (Tue, 01 Apr 2025) EllapsedTime: 361.3 seconds RetCode: 0 Status: OK CheckDir: biomaRt.Rcheck Warnings: 0