Package: biomaRt Version: 2.62.1 Command: /Library/Frameworks/R.framework/Resources/bin/R CMD build --keep-empty-dirs --no-resave-data biomaRt StartedAt: 2025-03-31 17:15:16 -0400 (Mon, 31 Mar 2025) EndedAt: 2025-03-31 17:22:26 -0400 (Mon, 31 Mar 2025) EllapsedTime: 429.9 seconds RetCode: 0 Status: OK PackageFile: biomaRt_2.62.1.tar.gz PackageFileSize: 843.1 KiB