Package: biomaRt Version: 2.62.1 Command: rm -rf biomaRt.buildbin-libdir && mkdir biomaRt.buildbin-libdir && /Users/biocbuild/BBS/utils/build-universal.sh biomaRt_2.62.1.tar.gz /Library/Frameworks/R.framework/Resources/bin/R biomaRt.buildbin-libdir StartedAt: 2025-04-01 11:29:34 -0400 (Tue, 01 Apr 2025) EndedAt: 2025-04-01 11:30:13 -0400 (Tue, 01 Apr 2025) EllapsedTime: 39.7 seconds RetCode: 0 Status: OK PackageFile: biomaRt_2.62.1.tgz PackageFileSize: 926.7 KiB