Package: biomaRt Version: 2.62.1 Command: /Library/Frameworks/R.framework/Resources/bin/R CMD build --keep-empty-dirs --no-resave-data biomaRt StartedAt: 2025-03-31 19:34:43 -0400 (Mon, 31 Mar 2025) EndedAt: 2025-03-31 19:37:58 -0400 (Mon, 31 Mar 2025) EllapsedTime: 194.6 seconds RetCode: 0 Status: OK PackageFile: biomaRt_2.62.1.tar.gz PackageFileSize: 843.3 KiB