Package: biodbNci Version: 1.10.0 Command: /home/biocbuild/R/R/bin/R CMD build --keep-empty-dirs --no-resave-data biodbNci StartedAt: 2025-03-31 21:48:30 -0000 (Mon, 31 Mar 2025) EndedAt: 2025-03-31 21:49:23 -0000 (Mon, 31 Mar 2025) EllapsedTime: 53.0 seconds RetCode: 0 Status: OK PackageFile: biodbNci_1.10.0.tar.gz PackageFileSize: 377.6 KiB