Package: biodbNcbi Version: 1.10.0 Command: /home/biocbuild/R/R/bin/R CMD check --install=check:biodbNcbi.install-out.txt --library=/home/biocbuild/R/R/site-library --no-vignettes --timings biodbNcbi_1.10.0.tar.gz StartedAt: 2025-04-01 04:18:57 -0000 (Tue, 01 Apr 2025) EndedAt: 2025-04-01 04:37:07 -0000 (Tue, 01 Apr 2025) EllapsedTime: 1089.9 seconds RetCode: 0 Status: OK CheckDir: biodbNcbi.Rcheck Warnings: 0