Package: biodbKegg Version: 1.12.0 Command: /Library/Frameworks/R.framework/Resources/bin/R CMD check --install=check:biodbKegg.install-out.txt --library=/Library/Frameworks/R.framework/Resources/library --no-vignettes --timings biodbKegg_1.12.0.tar.gz StartedAt: 2025-04-01 12:13:21 -0400 (Tue, 01 Apr 2025) EndedAt: 2025-04-01 12:40:08 -0400 (Tue, 01 Apr 2025) EllapsedTime: 1607.0 seconds RetCode: 1 Status: ERROR CheckDir: biodbKegg.Rcheck Warnings: NA