Package: biodbHmdb Version: 1.12.0 Command: /Library/Frameworks/R.framework/Resources/bin/R CMD check --install=check:biodbHmdb.install-out.txt --library=/Library/Frameworks/R.framework/Resources/library --no-vignettes --timings biodbHmdb_1.12.0.tar.gz StartedAt: 2025-04-01 12:12:35 -0400 (Tue, 01 Apr 2025) EndedAt: 2025-04-01 12:13:46 -0400 (Tue, 01 Apr 2025) EllapsedTime: 71.8 seconds RetCode: 0 Status: WARNINGS CheckDir: biodbHmdb.Rcheck Warnings: 1