Package: biodbExpasy Version: 1.10.0 Command: /home/biocbuild/R/R/bin/R CMD check --install=check:biodbExpasy.install-out.txt --library=/home/biocbuild/R/R/site-library --no-vignettes --timings biodbExpasy_1.10.0.tar.gz StartedAt: 2025-04-01 04:18:34 -0000 (Tue, 01 Apr 2025) EndedAt: 2025-04-01 04:33:47 -0000 (Tue, 01 Apr 2025) EllapsedTime: 912.7 seconds RetCode: 1 Status: ERROR CheckDir: biodbExpasy.Rcheck Warnings: NA