Package: biodbExpasy Version: 1.10.0 Command: chmod a+r biodbExpasy -R && F:\biocbuild\bbs-3.20-bioc\R\bin\R.exe CMD build --keep-empty-dirs --no-resave-data biodbExpasy StartedAt: 2025-03-31 17:38:17 -0400 (Mon, 31 Mar 2025) EndedAt: 2025-03-31 17:39:10 -0400 (Mon, 31 Mar 2025) EllapsedTime: 53.5 seconds RetCode: 0 Status: OK PackageFile: biodbExpasy_1.10.0.tar.gz PackageFileSize: 304 KiB