Package: biodbChebi Version: 1.12.0 Command: /Library/Frameworks/R.framework/Resources/bin/R CMD INSTALL biodbChebi StartedAt: 2025-03-31 16:17:19 -0400 (Mon, 31 Mar 2025) EndedAt: 2025-03-31 16:17:36 -0400 (Mon, 31 Mar 2025) EllapsedTime: 17.4 seconds RetCode: 0 Status: OK