Package: biodbChebi Version: 1.12.0 Command: /Library/Frameworks/R.framework/Resources/bin/R CMD check --install=check:biodbChebi.install-out.txt --library=/Library/Frameworks/R.framework/Resources/library --no-vignettes --timings biodbChebi_1.12.0.tar.gz StartedAt: 2025-03-31 23:54:39 -0400 (Mon, 31 Mar 2025) EndedAt: 2025-03-31 23:57:24 -0400 (Mon, 31 Mar 2025) EllapsedTime: 165.2 seconds RetCode: 0 Status: OK CheckDir: biodbChebi.Rcheck Warnings: 0