Package: biodb Version: 1.14.0 Command: /home/biocbuild/bbs-3.20-bioc/R/bin/R CMD INSTALL biodb StartedAt: 2025-03-31 15:42:01 -0400 (Mon, 31 Mar 2025) EndedAt: 2025-03-31 15:42:59 -0400 (Mon, 31 Mar 2025) EllapsedTime: 58.1 seconds RetCode: 0 Status: OK