Package: biocthis Version: 1.16.0 Command: /home/biocbuild/R/R/bin/R CMD INSTALL biocthis StartedAt: 2025-03-31 20:38:38 -0000 (Mon, 31 Mar 2025) EndedAt: 2025-03-31 20:38:44 -0000 (Mon, 31 Mar 2025) EllapsedTime: 5.9 seconds RetCode: 0 Status: OK