Package: biocthis Version: 1.16.0 Command: F:\biocbuild\bbs-3.20-bioc\R\bin\R.exe CMD check --no-multiarch --install=check:biocthis.install-out.txt --library=F:\biocbuild\bbs-3.20-bioc\R\library --no-vignettes --timings biocthis_1.16.0.tar.gz StartedAt: 2025-03-31 23:19:54 -0400 (Mon, 31 Mar 2025) EndedAt: 2025-03-31 23:22:25 -0400 (Mon, 31 Mar 2025) EllapsedTime: 150.6 seconds RetCode: 0 Status: OK CheckDir: biocthis.Rcheck Warnings: 0