Package: biocthis Version: 1.16.0 Command: /Library/Frameworks/R.framework/Resources/bin/R CMD check --install=check:biocthis.install-out.txt --library=/Library/Frameworks/R.framework/Resources/library --no-vignettes --timings biocthis_1.16.0.tar.gz StartedAt: 2025-03-31 23:53:51 -0400 (Mon, 31 Mar 2025) EndedAt: 2025-03-31 23:54:59 -0400 (Mon, 31 Mar 2025) EllapsedTime: 68.2 seconds RetCode: 0 Status: OK CheckDir: biocthis.Rcheck Warnings: 0