Package: biocroxytest Version: 1.2.0 Command: /Library/Frameworks/R.framework/Resources/bin/R CMD check --install=check:biocroxytest.install-out.txt --library=/Library/Frameworks/R.framework/Resources/library --no-vignettes --timings biocroxytest_1.2.0.tar.gz StartedAt: 2025-03-31 23:52:58 -0400 (Mon, 31 Mar 2025) EndedAt: 2025-03-31 23:53:53 -0400 (Mon, 31 Mar 2025) EllapsedTime: 54.8 seconds RetCode: 0 Status: OK CheckDir: biocroxytest.Rcheck Warnings: 0