Package: biocViews Version: 1.74.0 Command: /home/biocbuild/bbs-3.20-bioc/R/bin/R CMD check --install=check:biocViews.install-out.txt --library=/home/biocbuild/bbs-3.20-bioc/R/site-library --timings biocViews_1.74.0.tar.gz StartedAt: 2025-03-31 20:14:13 -0400 (Mon, 31 Mar 2025) EndedAt: 2025-03-31 20:15:07 -0400 (Mon, 31 Mar 2025) EllapsedTime: 54.1 seconds RetCode: 0 Status: OK CheckDir: biocViews.Rcheck Warnings: 0