Package: biocViews Version: 1.74.0 Command: /home/biocbuild/bbs-3.20-bioc/R/bin/R CMD build --keep-empty-dirs --no-resave-data --md5 biocViews StartedAt: 2025-03-31 16:24:11 -0400 (Mon, 31 Mar 2025) EndedAt: 2025-03-31 16:24:27 -0400 (Mon, 31 Mar 2025) EllapsedTime: 15.1 seconds RetCode: 0 Status: OK PackageFile: biocViews_1.74.0.tar.gz PackageFileSize: 509.5 KiB