Package: biocGraph Version: 1.68.0 Command: /home/biocbuild/R/R/bin/R CMD INSTALL biocGraph StartedAt: 2025-03-31 20:35:22 -0000 (Mon, 31 Mar 2025) EndedAt: 2025-03-31 20:35:40 -0000 (Mon, 31 Mar 2025) EllapsedTime: 18.3 seconds RetCode: 0 Status: OK