Package: biocGraph Version: 1.68.0 Command: /home/biocbuild/R/R/bin/R CMD build --keep-empty-dirs --no-resave-data biocGraph StartedAt: 2025-03-31 21:44:38 -0000 (Mon, 31 Mar 2025) EndedAt: 2025-03-31 21:45:09 -0000 (Mon, 31 Mar 2025) EllapsedTime: 31.0 seconds RetCode: 0 Status: OK PackageFile: biocGraph_1.68.0.tar.gz PackageFileSize: 717.1 KiB