Package: biocGraph Version: 1.68.0 Command: chmod a+r biocGraph -R && F:\biocbuild\bbs-3.20-bioc\R\bin\R.exe CMD build --keep-empty-dirs --no-resave-data biocGraph StartedAt: 2025-03-31 17:36:21 -0400 (Mon, 31 Mar 2025) EndedAt: 2025-03-31 17:37:06 -0400 (Mon, 31 Mar 2025) EllapsedTime: 44.9 seconds RetCode: 0 Status: OK PackageFile: biocGraph_1.68.0.tar.gz PackageFileSize: 449 KiB