Package: biocGraph Version: 1.68.0 Command: /Library/Frameworks/R.framework/Resources/bin/R CMD INSTALL biocGraph StartedAt: 2025-03-31 15:39:21 -0400 (Mon, 31 Mar 2025) EndedAt: 2025-03-31 15:39:50 -0400 (Mon, 31 Mar 2025) EllapsedTime: 29.2 seconds RetCode: 0 Status: OK