Package: biocGraph Version: 1.68.0 Command: /Library/Frameworks/R.framework/Resources/bin/R CMD check --install=check:biocGraph.install-out.txt --library=/Library/Frameworks/R.framework/Resources/library --no-vignettes --timings biocGraph_1.68.0.tar.gz StartedAt: 2025-03-31 23:50:59 -0400 (Mon, 31 Mar 2025) EndedAt: 2025-03-31 23:54:16 -0400 (Mon, 31 Mar 2025) EllapsedTime: 197.1 seconds RetCode: 0 Status: OK CheckDir: biocGraph.Rcheck Warnings: 0