Package: biocGraph Version: 1.68.0 Command: /Library/Frameworks/R.framework/Resources/bin/R CMD build --keep-empty-dirs --no-resave-data biocGraph StartedAt: 2025-03-31 17:11:42 -0400 (Mon, 31 Mar 2025) EndedAt: 2025-03-31 17:12:54 -0400 (Mon, 31 Mar 2025) EllapsedTime: 71.8 seconds RetCode: 0 Status: OK PackageFile: biocGraph_1.68.0.tar.gz PackageFileSize: 730.6 KiB