Package: biocGraph Version: 1.68.0 Command: rm -rf biocGraph.buildbin-libdir && mkdir biocGraph.buildbin-libdir && /Users/biocbuild/BBS/utils/build-universal.sh biocGraph_1.68.0.tar.gz /Library/Frameworks/R.framework/Resources/bin/R biocGraph.buildbin-libdir StartedAt: 2025-04-01 11:28:53 -0400 (Tue, 01 Apr 2025) EndedAt: 2025-04-01 11:29:25 -0400 (Tue, 01 Apr 2025) EllapsedTime: 31.5 seconds RetCode: 0 Status: OK PackageFile: biocGraph_1.68.0.tgz PackageFileSize: 721.7 KiB