Package: biobroom Version: 1.38.0 Command: rm -rf biobroom.buildbin-libdir && mkdir biobroom.buildbin-libdir && F:\biocbuild\bbs-3.20-bioc\R\bin\R.exe CMD INSTALL --build --library=biobroom.buildbin-libdir biobroom_1.38.0.tar.gz StartedAt: 2025-04-01 07:44:36 -0400 (Tue, 01 Apr 2025) EndedAt: 2025-04-01 07:45:02 -0400 (Tue, 01 Apr 2025) EllapsedTime: 26.1 seconds RetCode: 0 Status: OK PackageFile: biobroom_1.38.0.zip PackageFileSize: 603.1 KiB