Package: biobroom Version: 1.38.0 Command: /Library/Frameworks/R.framework/Resources/bin/R CMD INSTALL biobroom StartedAt: 2025-03-31 15:15:55 -0400 (Mon, 31 Mar 2025) EndedAt: 2025-03-31 15:16:08 -0400 (Mon, 31 Mar 2025) EllapsedTime: 12.3 seconds RetCode: 0 Status: OK