Package: biobroom Version: 1.38.0 Command: rm -rf biobroom.buildbin-libdir && mkdir biobroom.buildbin-libdir && /Users/biocbuild/BBS/utils/build-universal.sh biobroom_1.38.0.tar.gz /Library/Frameworks/R.framework/Resources/bin/R biobroom.buildbin-libdir StartedAt: 2025-04-02 13:27:32 -0400 (Wed, 02 Apr 2025) EndedAt: 2025-04-02 13:27:40 -0400 (Wed, 02 Apr 2025) EllapsedTime: 8.0 seconds RetCode: 0 Status: OK PackageFile: biobroom_1.38.0.tgz PackageFileSize: 826.7 KiB