Package: bioassayR Version: 1.44.0 Command: F:\biocbuild\bbs-3.20-bioc\R\bin\R.exe CMD INSTALL bioassayR StartedAt: 2025-03-31 16:56:56 -0400 (Mon, 31 Mar 2025) EndedAt: 2025-03-31 16:57:44 -0400 (Mon, 31 Mar 2025) EllapsedTime: 48.5 seconds RetCode: 0 Status: OK