Package: bioassayR Version: 1.44.0 Command: /Library/Frameworks/R.framework/Resources/bin/R CMD check --install=check:bioassayR.install-out.txt --library=/Library/Frameworks/R.framework/Resources/library --no-vignettes --timings bioassayR_1.44.0.tar.gz StartedAt: 2025-03-31 23:48:04 -0400 (Mon, 31 Mar 2025) EndedAt: 2025-03-31 23:50:59 -0400 (Mon, 31 Mar 2025) EllapsedTime: 175.1 seconds RetCode: 0 Status: OK CheckDir: bioassayR.Rcheck Warnings: 0