Package: bioassayR Version: 1.44.0 Command: rm -rf bioassayR.buildbin-libdir && mkdir bioassayR.buildbin-libdir && /Users/biocbuild/BBS/utils/build-universal.sh bioassayR_1.44.0.tar.gz /Library/Frameworks/R.framework/Resources/bin/R bioassayR.buildbin-libdir StartedAt: 2025-04-01 11:28:31 -0400 (Tue, 01 Apr 2025) EndedAt: 2025-04-01 11:29:01 -0400 (Tue, 01 Apr 2025) EllapsedTime: 30.0 seconds RetCode: 0 Status: OK PackageFile: bioassayR_1.44.0.tgz PackageFileSize: 1.033 MiB