Package: bioassayR Version: 1.44.0 Command: /Library/Frameworks/R.framework/Resources/bin/R CMD build --keep-empty-dirs --no-resave-data bioassayR StartedAt: 2025-03-31 19:24:33 -0400 (Mon, 31 Mar 2025) EndedAt: 2025-03-31 19:25:22 -0400 (Mon, 31 Mar 2025) EllapsedTime: 49.1 seconds RetCode: 0 Status: OK PackageFile: bioassayR_1.44.0.tar.gz PackageFileSize: 1.37 MiB