Package: bioDist Version: 1.78.0 Command: /Library/Frameworks/R.framework/Resources/bin/R CMD INSTALL bioDist StartedAt: 2025-03-31 15:04:56 -0400 (Mon, 31 Mar 2025) EndedAt: 2025-03-31 15:05:09 -0400 (Mon, 31 Mar 2025) EllapsedTime: 13.1 seconds RetCode: 0 Status: OK