Package: bioDist Version: 1.78.0 Command: /Library/Frameworks/R.framework/Resources/bin/R CMD build --keep-empty-dirs --no-resave-data bioDist StartedAt: 2025-03-31 17:15:12 -0400 (Mon, 31 Mar 2025) EndedAt: 2025-03-31 17:15:59 -0400 (Mon, 31 Mar 2025) EllapsedTime: 47.3 seconds RetCode: 0 Status: OK PackageFile: bioDist_1.78.0.tar.gz PackageFileSize: 204.4 KiB