Package: bioCancer Version: 1.34.0 Command: /Library/Frameworks/R.framework/Resources/bin/R CMD INSTALL bioCancer StartedAt: 2025-03-31 16:31:04 -0400 (Mon, 31 Mar 2025) EndedAt: 2025-03-31 16:32:55 -0400 (Mon, 31 Mar 2025) EllapsedTime: 111.0 seconds RetCode: 0 Status: OK