Package: bioCancer Version: 1.34.0 Command: /Library/Frameworks/R.framework/Resources/bin/R CMD build --keep-empty-dirs --no-resave-data bioCancer StartedAt: 2025-03-31 17:10:27 -0400 (Mon, 31 Mar 2025) EndedAt: 2025-03-31 17:12:40 -0400 (Mon, 31 Mar 2025) EllapsedTime: 133.3 seconds RetCode: 0 Status: OK PackageFile: bioCancer_1.34.0.tar.gz PackageFileSize: 9.457 MiB