Package: bioCancer Version: 1.34.0 Command: rm -rf bioCancer.buildbin-libdir && mkdir bioCancer.buildbin-libdir && /Users/biocbuild/BBS/utils/build-universal.sh bioCancer_1.34.0.tar.gz /Library/Frameworks/R.framework/Resources/bin/R bioCancer.buildbin-libdir StartedAt: 2025-04-01 11:28:43 -0400 (Tue, 01 Apr 2025) EndedAt: 2025-04-01 11:30:40 -0400 (Tue, 01 Apr 2025) EllapsedTime: 117.0 seconds RetCode: 0 Status: OK PackageFile: bioCancer_1.34.0.tgz PackageFileSize: 7.42 MiB