Package: bgx Version: 1.72.0 Command: /home/biocbuild/R/R/bin/R CMD INSTALL bgx StartedAt: 2025-03-31 20:21:24 -0000 (Mon, 31 Mar 2025) EndedAt: 2025-03-31 20:21:59 -0000 (Mon, 31 Mar 2025) EllapsedTime: 35.1 seconds RetCode: 0 Status: OK