Package: bgx Version: 1.72.0 Command: F:\biocbuild\bbs-3.20-bioc\R\bin\R.exe CMD INSTALL bgx StartedAt: 2025-03-31 15:43:39 -0400 (Mon, 31 Mar 2025) EndedAt: 2025-03-31 15:44:53 -0400 (Mon, 31 Mar 2025) EllapsedTime: 74.1 seconds RetCode: 0 Status: OK