Package: bgx Version: 1.72.0 Command: F:\biocbuild\bbs-3.20-bioc\R\bin\R.exe CMD check --no-multiarch --install=check:bgx.install-out.txt --library=F:\biocbuild\bbs-3.20-bioc\R\library --no-vignettes --timings bgx_1.72.0.tar.gz StartedAt: 2025-03-31 23:13:24 -0400 (Mon, 31 Mar 2025) EndedAt: 2025-03-31 23:17:12 -0400 (Mon, 31 Mar 2025) EllapsedTime: 227.2 seconds RetCode: 0 Status: OK CheckDir: bgx.Rcheck Warnings: 0